BEGIN:VCALENDAR
VERSION:2.0
PRODID:-//The Northumbrian Pipers’ Society - ECPv6.0.11//NONSGML v1.0//EN
CALSCALE:GREGORIAN
METHOD:PUBLISH
X-ORIGINAL-URL:https://www.northumbrianpipers.org.uk
X-WR-CALDESC:Events for The Northumbrian Pipers’ Society
REFRESH-INTERVAL;VALUE=DURATION:PT1H
X-Robots-Tag:noindex
X-PUBLISHED-TTL:PT1H
BEGIN:VTIMEZONE
TZID:Europe/London
BEGIN:DAYLIGHT
TZOFFSETFROM:+0000
TZOFFSETTO:+0100
TZNAME:BST
DTSTART:20200329T010000
END:DAYLIGHT
BEGIN:STANDARD
TZOFFSETFROM:+0100
TZOFFSETTO:+0000
TZNAME:GMT
DTSTART:20201025T010000
END:STANDARD
BEGIN:DAYLIGHT
TZOFFSETFROM:+0000
TZOFFSETTO:+0100
TZNAME:BST
DTSTART:20210328T010000
END:DAYLIGHT
BEGIN:STANDARD
TZOFFSETFROM:+0100
TZOFFSETTO:+0000
TZNAME:GMT
DTSTART:20211031T010000
END:STANDARD
END:VTIMEZONE
BEGIN:VEVENT
DTSTART;TZID=Europe/London:20210918T143000
DTEND;TZID=Europe/London:20210918T170000
DTSTAMP:20260422T105338
CREATED:20210910T171014Z
LAST-MODIFIED:20210910T171014Z
UID:22819-1631975400-1631984400@www.northumbrianpipers.org.uk
SUMMARY:Chantry Meeting
DESCRIPTION:At last we are back to live events\, subject to Covid regulations.
URL:https://www.northumbrianpipers.org.uk/event/chantry-meeting/
LOCATION:The Chantry Bagpipe Museum\, Bridge St\, Morpeth\, Northumberland\, NE61 1PD\, United Kingdom
END:VEVENT
BEGIN:VEVENT
DTSTART;TZID=Europe/London:20201128T110000
DTEND;TZID=Europe/London:20201128T170000
DTSTAMP:20260422T105338
CREATED:20200102T195818Z
LAST-MODIFIED:20200102T195818Z
UID:5903-1606561200-1606582800@www.northumbrianpipers.org.uk
SUMMARY:East of England Pipeworks
DESCRIPTION:For more information about East of England or Northumbria Pipe week\, please contact susan@northumbriansandpipers.com
URL:https://www.northumbrianpipers.org.uk/event/east-of-england-pipeworks-3/
LOCATION:Bar Hill\, Viking Way\, Bar Hill\, Cambridge\, CB23 8EH\, United Kingdom
CATEGORIES:Courses and Workshops
ORGANIZER;CN="Northumbrians%20And%20Pipers":MAILTO:info@Northumbriansandpipers.com
END:VEVENT
BEGIN:VEVENT
DTSTART;TZID=Europe/London:20201101T120000
DTEND;TZID=Europe/London:20201101T160000
DTSTAMP:20260422T105338
CREATED:20200103T140954Z
LAST-MODIFIED:20200103T140954Z
UID:6180-1604232000-1604246400@www.northumbrianpipers.org.uk
SUMMARY:Oxford Sunday Session
DESCRIPTION:
URL:https://www.northumbrianpipers.org.uk/event/oxford-sunday-session-5/
LOCATION:St Margarets Institute\, 30 Polstead Rd\, Oxford\, Oxfordshire\, OX2 6TN\, United Kingdom
ORGANIZER;CN="Oxford%20Group":MAILTO:MDOBSONS@aol.com
END:VEVENT
BEGIN:VEVENT
DTSTART;TZID=Europe/London:20201017T191500
DTEND;TZID=Europe/London:20201017T213000
DTSTAMP:20260422T105338
CREATED:20200308T031431Z
LAST-MODIFIED:20201017T163800Z
UID:7982-1602962100-1602970200@www.northumbrianpipers.org.uk
SUMMARY:NPS Annual Competitions
DESCRIPTION:For 2020 our Annual Competition is going online – premiered at 7:15 on YouTube \n \n 
URL:https://www.northumbrianpipers.org.uk/event/nps-annual-competitions/
LOCATION:Online\, Northumberland\, United Kingdom
CATEGORIES:Competitions
END:VEVENT
BEGIN:VEVENT
DTSTART;TZID=Europe/London:20201011T080000
DTEND;TZID=Europe/London:20201016T170000
DTSTAMP:20260422T105338
CREATED:20200102T200002Z
LAST-MODIFIED:20200102T200002Z
UID:5905-1602403200-1602867600@www.northumbrianpipers.org.uk
SUMMARY:Northumbria Pipe Week
DESCRIPTION:For more information about East of England or Northumbria Pipe week\, please contact susan@northumbriansandpipers.com
URL:https://www.northumbrianpipers.org.uk/event/northumbria-pipe-week-2/
LOCATION:Newbiggin Sailing Club\, 4 Bridge St\, Newbiggin-by-the-Sea\, Northumberland\, NE64 6EG\, United Kingdom
CATEGORIES:Courses and Workshops
ORGANIZER;CN="Northumbrians%20And%20Pipers":MAILTO:info@Northumbriansandpipers.com
END:VEVENT
BEGIN:VEVENT
DTSTART;TZID=Europe/London:20201010T190000
DTEND;TZID=Europe/London:20201013T233000
DTSTAMP:20260422T105338
CREATED:20201008T101033Z
LAST-MODIFIED:20201011T103758Z
UID:13942-1602356400-1602631800@www.northumbrianpipers.org.uk
SUMMARY:NPS Annual Concert 2020
DESCRIPTION:Featuring: \nAlice Robinson \nAndy May Trio \nplus a host of supporting pipers from around the world! \nThe Society’s annual concert brings together some of the finest pipers for an evening of excellent music. With the current COVID-19 situation it has been decided to host this year’s event as a virtual concert and provide the opportunity for even more people to attend this key event in the society calendar. \nWhen purchasing this ticket from our online shop\, you will receive a confirmation email with a link to the NPS concert page. The event will be live from 7pm (UK time) on Saturday 10th October and will be available for delayed viewing and reruns for 5 days. Tickets will be available from the shop until Thursday 15th October.
URL:https://www.northumbrianpipers.org.uk/event/nps-annual-concert-2020/
LOCATION:Online\, Northumberland\, United Kingdom
CATEGORIES:Events
ATTACH;FMTTYPE=image/jpeg:https://www.northumbrianpipers.org.uk/wp-content/uploads/2020/09/Concert2020_landscape1.jpg
END:VEVENT
BEGIN:VEVENT
DTSTART;TZID=Europe/London:20200906T120000
DTEND;TZID=Europe/London:20200906T160000
DTSTAMP:20260422T105338
CREATED:20200103T140856Z
LAST-MODIFIED:20200103T140856Z
UID:6178-1599393600-1599408000@www.northumbrianpipers.org.uk
SUMMARY:Oxford Sunday Session
DESCRIPTION:
URL:https://www.northumbrianpipers.org.uk/event/oxford-sunday-session-4/
LOCATION:St Margarets Institute\, 30 Polstead Rd\, Oxford\, Oxfordshire\, OX2 6TN\, United Kingdom
ORGANIZER;CN="Oxford%20Group":MAILTO:MDOBSONS@aol.com
END:VEVENT
BEGIN:VEVENT
DTSTART;TZID=Europe/London:20200829T100000
DTEND;TZID=Europe/London:20200829T170000
DTSTAMP:20260422T105338
CREATED:20200308T030555Z
LAST-MODIFIED:20200308T030555Z
UID:7980-1598695200-1598720400@www.northumbrianpipers.org.uk
SUMMARY:Bellingham Show
DESCRIPTION:The traditional music tent at Bellingham Show is organised by Magnetic North East and features a playing session\, performances\, and piping competitions. The tent is open throughout the day\, and the competitions are scheduled for 1.00pm.
URL:https://www.northumbrianpipers.org.uk/event/bellingham-show/
LOCATION:Bellingham Show\, Bellingham Show Field\, Bellingham\, Northumberland\, NE48 2JY\, United Kingdom
CATEGORIES:Competitions,Events
END:VEVENT
BEGIN:VEVENT
DTSTART;TZID=Europe/London:20200711T100000
DTEND;TZID=Europe/London:20200711T170000
DTSTAMP:20260422T105338
CREATED:20200103T145225Z
LAST-MODIFIED:20200103T145225Z
UID:6183-1594461600-1594486800@www.northumbrianpipers.org.uk
SUMMARY:Rothbury Piping Competitions
DESCRIPTION:
URL:https://www.northumbrianpipers.org.uk/event/rothbury-piping-competitions/
LOCATION:Northumberland
CATEGORIES:Competitions
END:VEVENT
BEGIN:VEVENT
DTSTART;TZID=Europe/London:20200626T193000
DTEND;TZID=Europe/London:20200626T220000
DTSTAMP:20260422T105338
CREATED:20200103T140130Z
LAST-MODIFIED:20200103T140130Z
UID:6168-1593199800-1593208800@www.northumbrianpipers.org.uk
SUMMARY:South Cumbria/N Lancs Group
DESCRIPTION:
URL:https://www.northumbrianpipers.org.uk/event/south-cumbria-n-lancs-group-6/
LOCATION:Emesgate Lane\, 53 Emesgate Lane\, Silverdale\, Lancashire\, LA5 0RN\, United Kingdom
ORGANIZER;CN="S%20Cumbria%2FN%20Lancs":MAILTO:philip@gruar.clara.net
END:VEVENT
BEGIN:VEVENT
DTSTART;TZID=Europe/London:20200624T200000
DTEND;TZID=Europe/London:20200624T220000
DTSTAMP:20260422T105338
CREATED:20200103T134847Z
LAST-MODIFIED:20200103T134847Z
UID:6154-1593028800-1593036000@www.northumbrianpipers.org.uk
SUMMARY:Beamish Session
DESCRIPTION:
URL:https://www.northumbrianpipers.org.uk/event/beamish-session-6/
LOCATION:Beamish\, Beamish Museum\, Beamish\, Co Durham\, DH9 0RG\, United Kingdom
ORGANIZER;CN="Dave%20Shaw":MAILTO:dave@daveshaw.co.uk
END:VEVENT
BEGIN:VEVENT
DTSTART;TZID=Europe/London:20200624T190000
DTEND;TZID=Europe/London:20200624T210000
DTSTAMP:20260422T105338
CREATED:20200103T133948Z
LAST-MODIFIED:20200103T133948Z
UID:6140-1593025200-1593032400@www.northumbrianpipers.org.uk
SUMMARY:Cleveland Branch Playing Group
DESCRIPTION:
URL:https://www.northumbrianpipers.org.uk/event/cleveland-branch-playing-group-9/
LOCATION:Ceddesfield Hall Community Centre\, Sedgefield\, Teeside\, TS21 2A\, United Kingdom
END:VEVENT
BEGIN:VEVENT
DTSTART;TZID=Europe/London:20200621T120000
DTEND;TZID=Europe/London:20200621T170000
DTSTAMP:20260422T105338
CREATED:20200103T114036Z
LAST-MODIFIED:20200103T114036Z
UID:6028-1592740800-1592758800@www.northumbrianpipers.org.uk
SUMMARY:Pacific Northwest Pipers
DESCRIPTION:
URL:https://www.northumbrianpipers.org.uk/event/pacific-northwest-pipers-10/
LOCATION:Northumberland
ORGANIZER;CN="Pacific%20Northwest%20Pipers":MAILTO:plhickey@comcast.net
END:VEVENT
BEGIN:VEVENT
DTSTART;TZID=Europe/London:20200620T140000
DTEND;TZID=Europe/London:20200620T170000
DTSTAMP:20260422T105338
CREATED:20200103T111053Z
LAST-MODIFIED:20200103T111053Z
UID:6002-1592661600-1592672400@www.northumbrianpipers.org.uk
SUMMARY:Salisbury Pipers
DESCRIPTION:Please check arrangements and venue with Ian Curr if you are travelling a distance
URL:https://www.northumbrianpipers.org.uk/event/salisbury-pipers-10/
LOCATION:Northumberland
ORGANIZER;CN="Salisbury%20Pipers":MAILTO:i.curr@ntlworld.com
END:VEVENT
BEGIN:VEVENT
DTSTART;TZID=Europe/London:20200620T140000
DTEND;TZID=Europe/London:20200620T170000
DTSTAMP:20260422T105338
CREATED:20200103T105250Z
LAST-MODIFIED:20200313T023220Z
UID:5988-1592661600-1592672400@www.northumbrianpipers.org.uk
SUMMARY:NPS Saturday Meeting
DESCRIPTION:
URL:https://www.northumbrianpipers.org.uk/event/nps-saturday-meeting-9/
LOCATION:The Chantry Bagpipe Museum\, Bridge St\, Morpeth\, Northumberland\, NE61 1PD\, United Kingdom
END:VEVENT
BEGIN:VEVENT
DTSTART;TZID=Europe/London:20200617T200000
DTEND;TZID=Europe/London:20200617T220000
DTSTAMP:20260422T105338
CREATED:20200103T133250Z
LAST-MODIFIED:20200103T133250Z
UID:6128-1592424000-1592431200@www.northumbrianpipers.org.uk
SUMMARY:Fenland Chapter
DESCRIPTION:Contact below for venue and date changes before travelling.
URL:https://www.northumbrianpipers.org.uk/event/fenland-chapter-6/
LOCATION:Northumberland
ORGANIZER;CN="Fenland%20Chapter":MAILTO:dsomerv@aol.com
END:VEVENT
BEGIN:VEVENT
DTSTART;TZID=Europe/London:20200617T193000
DTEND;TZID=Europe/London:20200617T220000
DTSTAMP:20260422T105338
CREATED:20200103T132547Z
LAST-MODIFIED:20200103T132547Z
UID:6114-1592422200-1592431200@www.northumbrianpipers.org.uk
SUMMARY:Oxford Group
DESCRIPTION:
URL:https://www.northumbrianpipers.org.uk/event/oxford-group-6/
LOCATION:Pitt Rivers Museum\, South Parks Road\, Oxford\, Oxfordshire\, OX1 3PP\, United Kingdom
ORGANIZER;CN="Oxford%20Group":MAILTO:MDOBSONS@aol.com
END:VEVENT
BEGIN:VEVENT
DTSTART;TZID=Europe/London:20200617T193000
DTEND;TZID=Europe/London:20200617T220000
DTSTAMP:20260422T105338
CREATED:20200103T131820Z
LAST-MODIFIED:20200103T131820Z
UID:6100-1592422200-1592431200@www.northumbrianpipers.org.uk
SUMMARY:South Devon Pipers
DESCRIPTION:
URL:https://www.northumbrianpipers.org.uk/event/south-devon-pipers-6/
LOCATION:Devon Pipers\, 7 Southcote Orchard\, Totnes\, Devon\, TQ9 5PA\, United Kingdom
ORGANIZER;CN="Devon%20Pipers":MAILTO:martin.luff@gmx.com
END:VEVENT
BEGIN:VEVENT
DTSTART;TZID=Europe/London:20200613T140000
DTEND;TZID=Europe/London:20200613T160000
DTSTAMP:20260422T105338
CREATED:20200103T003145Z
LAST-MODIFIED:20200103T003145Z
UID:5956-1592056800-1592064000@www.northumbrianpipers.org.uk
SUMMARY:Hyde Pipers
DESCRIPTION:
URL:https://www.northumbrianpipers.org.uk/event/hyde-pipers-9/
LOCATION:The Hyde Tavern\, 57 Hyde Street\, Winchester\, SO23 7DY\, United Kingdom
ORGANIZER;CN="Hyde%20Pipers":MAILTO:paul.tabbush@gmail.com
END:VEVENT
BEGIN:VEVENT
DTSTART;TZID=Europe/London:20200613T103000
DTEND;TZID=Europe/London:20200613T133000
DTSTAMP:20260422T105338
CREATED:20200103T002300Z
LAST-MODIFIED:20200103T002300Z
UID:5944-1592044200-1592055000@www.northumbrianpipers.org.uk
SUMMARY:Gateshead Pipemakers' Co-op
DESCRIPTION:
URL:https://www.northumbrianpipers.org.uk/event/gateshead-pipemakers-co-op-9/
LOCATION:St. Mary’s Heritage Centre\, St. Mary's Church\, Gateshead\, Tyen & Wear\, NE8 2AU\, United Kingdom
ORGANIZER;CN="Pipemakers%27%20Co-Op":MAILTO:harrysmay@gmail.com
END:VEVENT
BEGIN:VEVENT
DTSTART;TZID=Europe/London:20200610T200000
DTEND;TZID=Europe/London:20200610T220000
DTSTAMP:20260422T105338
CREATED:20200103T131053Z
LAST-MODIFIED:20200103T131053Z
UID:6086-1591819200-1591826400@www.northumbrianpipers.org.uk
SUMMARY:Cleveland Branch
DESCRIPTION:
URL:https://www.northumbrianpipers.org.uk/event/cleveland-branch-9/
LOCATION:Ceddesfield Hall Community Centre\, Sedgefield\, Teeside\, TS21 2A\, United Kingdom
END:VEVENT
BEGIN:VEVENT
DTSTART;TZID=Europe/London:20200609T200000
DTEND;TZID=Europe/London:20200609T230000
DTSTAMP:20260422T105338
CREATED:20200103T114929Z
LAST-MODIFIED:20200103T114929Z
UID:6041-1591732800-1591743600@www.northumbrianpipers.org.uk
SUMMARY:Bedfordshire Northumbrian Session
DESCRIPTION:
URL:https://www.northumbrianpipers.org.uk/event/bedfordshire-northumbrian-session-6/
LOCATION:The Albion\, Ampthill\, Bedford\, Bedfordshire\, MK45 2JT\, United Kingdom
END:VEVENT
BEGIN:VEVENT
DTSTART;TZID=Europe/London:20200607T134500
DTEND;TZID=Europe/London:20200607T170000
DTSTAMP:20260422T105338
CREATED:20200103T111917Z
LAST-MODIFIED:20200103T111917Z
UID:6014-1591537500-1591549200@www.northumbrianpipers.org.uk
SUMMARY:Alnwick Pipers' Society
DESCRIPTION:
URL:https://www.northumbrianpipers.org.uk/event/alnwick-pipers-society-9/
LOCATION:Newton on the Moor Village Hall\, Newton on the Moor\, Northumberland\, NE65 9JY\, United Kingdom
ORGANIZER;CN="Alnwick%20Pipers%27%20Society":MAILTO:g.prentice@btconnect.com
END:VEVENT
BEGIN:VEVENT
DTSTART;TZID=Europe/London:20200607T120000
DTEND;TZID=Europe/London:20200607T160000
DTSTAMP:20260422T105338
CREATED:20200103T140819Z
LAST-MODIFIED:20200103T140819Z
UID:6176-1591531200-1591545600@www.northumbrianpipers.org.uk
SUMMARY:Oxford Sunday Session
DESCRIPTION:
URL:https://www.northumbrianpipers.org.uk/event/oxford-sunday-session-3/
LOCATION:St Margarets Institute\, 30 Polstead Rd\, Oxford\, Oxfordshire\, OX2 6TN\, United Kingdom
ORGANIZER;CN="Oxford%20Group":MAILTO:MDOBSONS@aol.com
END:VEVENT
BEGIN:VEVENT
DTSTART;TZID=Europe/London:20200606T140000
DTEND;TZID=Europe/London:20200606T170000
DTSTAMP:20260422T105338
CREATED:20200103T001443Z
LAST-MODIFIED:20200103T001443Z
UID:5931-1591452000-1591462800@www.northumbrianpipers.org.uk
SUMMARY:Manchester Pipers' Group
DESCRIPTION:For more details\, or if you are travelling a distance\, please check with John Routledge of Neil Tavernor to make sure of date and venue
URL:https://www.northumbrianpipers.org.uk/event/manchester-pipers-group-9/
LOCATION:Grove Lane Baptist Church\, Pingate Lane South\, Cheadle Hulme\, Manchester\, SK8 7NP\, United Kingdom
END:VEVENT
BEGIN:VEVENT
DTSTART;TZID=Europe/London:20200603T193000
DTEND;TZID=Europe/London:20200603T230000
DTSTAMP:20260422T105338
CREATED:20200103T130501Z
LAST-MODIFIED:20200103T130501Z
UID:6074-1591212600-1591225200@www.northumbrianpipers.org.uk
SUMMARY:Berwick (Spittal) Pipers
DESCRIPTION:
URL:https://www.northumbrianpipers.org.uk/event/berwick-spittal-pipers-8/
LOCATION:Blenheim Hotel\, Spittal\, Northumberland\, TD15 1RD\, United Kingdom
ORGANIZER;CN="Spittal%20Pipers":MAILTO:bobbie.prentice@btconnect.com
END:VEVENT
BEGIN:VEVENT
DTSTART;TZID=Europe/London:20200603T183000
DTEND;TZID=Europe/London:20200603T230000
DTSTAMP:20260422T105338
CREATED:20200103T130032Z
LAST-MODIFIED:20200103T130032Z
UID:6064-1591209000-1591225200@www.northumbrianpipers.org.uk
SUMMARY:London Pipers
DESCRIPTION:
URL:https://www.northumbrianpipers.org.uk/event/london-pipers-8/
LOCATION:Calthorpe Arms\, 252 Gray's Inn Road\, London\, WC1X 8JR\, United Kingdom
ORGANIZER;CN="London%20Pipers":MAILTO:smallpipes@gmail.com
END:VEVENT
BEGIN:VEVENT
DTSTART;TZID=Europe/London:20200530T110000
DTEND;TZID=Europe/London:20200530T170000
DTSTAMP:20260422T105338
CREATED:20200102T195703Z
LAST-MODIFIED:20200102T195703Z
UID:5901-1590836400-1590858000@www.northumbrianpipers.org.uk
SUMMARY:East of England Pipeworks
DESCRIPTION:For more information about East of England or Northumbria Pipe week\, please contact Susan Craven.
URL:https://www.northumbrianpipers.org.uk/event/east-of-england-pipeworks-2/
LOCATION:Bar Hill\, Viking Way\, Bar Hill\, Cambridge\, CB23 8EH\, United Kingdom
CATEGORIES:Courses and Workshops
ORGANIZER;CN="Northumbrians%20And%20Pipers":MAILTO:info@Northumbriansandpipers.com
END:VEVENT
BEGIN:VEVENT
DTSTART;TZID=Europe/London:20200527T200000
DTEND;TZID=Europe/London:20200527T200000
DTSTAMP:20260422T105338
CREATED:20200103T134759Z
LAST-MODIFIED:20200103T134759Z
UID:6152-1590609600-1590609600@www.northumbrianpipers.org.uk
SUMMARY:Beamish Session
DESCRIPTION:
URL:https://www.northumbrianpipers.org.uk/event/beamish-session-5/
LOCATION:Beamish\, Beamish Museum\, Beamish\, Co Durham\, DH9 0RG\, United Kingdom
ORGANIZER;CN="Dave%20Shaw":MAILTO:dave@daveshaw.co.uk
END:VEVENT
BEGIN:VEVENT
DTSTART;TZID=Europe/London:20200527T190000
DTEND;TZID=Europe/London:20200527T220000
DTSTAMP:20260422T105338
CREATED:20200103T133851Z
LAST-MODIFIED:20200103T133851Z
UID:6138-1590606000-1590616800@www.northumbrianpipers.org.uk
SUMMARY:Cleveland Branch Playing Group
DESCRIPTION:
URL:https://www.northumbrianpipers.org.uk/event/cleveland-branch-playing-group-8/
LOCATION:Ceddesfield Hall Community Centre\, Sedgefield\, Teeside\, TS21 2A\, United Kingdom
END:VEVENT
END:VCALENDAR